BEGIN:VCALENDAR
VERSION:2.0
PRODID:-//Squarespace Inc/Squarespace 6//v6//EN
BEGIN:VEVENT
UID:5da56ac7b4737410bc518402@squarespace.com
DTSTAMP:20191015T064756Z
DTSTART:20191026T023000Z
DTEND:20191026T063000Z
SUMMARY:Leather Tie Bags with Nicola Cerini
END:VEVENT
END:VCALENDAR
