BEGIN:VCALENDAR
VERSION:2.0
PRODID:-//Squarespace Inc/Squarespace 6//v6//EN
BEGIN:VEVENT
UID:5da5609bf67f2217cb34f6e4@squarespace.com
DTSTAMP:20191015T063218Z
DTSTART:20191014T223000Z
DTEND:20191015T083000Z
SUMMARY:Just Tuesday's Art Class
GEO:-38.383871;142.479356
LOCATION:The F Project\, 224 Timor Street\, Warrnambool\, VIC\, 3280\, Aust
 ralia
END:VEVENT
END:VCALENDAR
