BEGIN:VCALENDAR
VERSION:2.0
PRODID:-//Squarespace Inc/Squarespace 6//v6//EN
BEGIN:VEVENT
UID:5e4b229fc1cd5653bfbd0bbd@squarespace.com
DTSTAMP:20200217T233842Z
DTSTART:20200319T083000Z
DTEND:20200319T110000Z
SUMMARY:The Venetian Sonnets
GEO:-38.383871;142.479356
LOCATION:The F Project\, 224 Timor Street\, Warrnambool\, VIC\, 3280\, Aust
 ralia
END:VEVENT
END:VCALENDAR
