BEGIN:VCALENDAR
VERSION:2.0
PRODID:-//Squarespace Inc/Squarespace 6//v6//EN
BEGIN:VEVENT
UID:5e32503cdccb3e3e70ab6e9f@squarespace.com
DTSTAMP:20200211T092831Z
DTSTART:20200321T090000Z
DTEND:20200321T110000Z
SUMMARY:Ladies of the Bay
GEO:-38.368678;142.498209
LOCATION:The F Project\, Warrnambool\, Aus
END:VEVENT
END:VCALENDAR
