BEGIN:VCALENDAR
VERSION:2.0
PRODID:-//Squarespace Inc/Squarespace 6//v6//EN
BEGIN:VEVENT
UID:5e4273bf22a618210c165337@squarespace.com
DTSTAMP:20200211T092912Z
DTSTART:20200322T070000Z
DTEND:20200322T090000Z
SUMMARY:Ladies of the Bay
GEO:-38.368678;142.498209
LOCATION:The F Project\, Warrnambool\, Aus
END:VEVENT
END:VCALENDAR
