BEGIN:VCALENDAR
VERSION:2.0
PRODID:-//Squarespace Inc/Squarespace 6//v6//EN
BEGIN:VEVENT
UID:5da56fa371d42d1454752d97@squarespace.com
DTSTAMP:20191015T070632Z
DTSTART:20191030T083000Z
DTEND:20191030T103000Z
SUMMARY:The Babadook
END:VEVENT
END:VCALENDAR
