BEGIN:VCALENDAR
VERSION:2.0
PRODID:-//Squarespace Inc/Squarespace 6//v6//EN
BEGIN:VEVENT
UID:5d9eb813965fb51f8c753ec7@squarespace.com
DTSTAMP:20191010T045159Z
DTSTART:20191023T080000Z
DTEND:20191023T100000Z
SUMMARY:Ryuichi Sakamoto: Coda
GEO:-38.383871;142.479356
LOCATION:Mozart Hall\, Merri St\, Warrnambool\, VIC\, 3280\, Australia
END:VEVENT
END:VCALENDAR
