BEGIN:VCALENDAR
VERSION:2.0
PRODID:-//Squarespace Inc/Squarespace 6//v6//EN
BEGIN:VEVENT
UID:5e324d55d36e1a61903b38f8@squarespace.com
DTSTAMP:20200130T033048Z
DTSTART:20200226T083000Z
DTEND:20200226T103000Z
SUMMARY:Gimme Danger
END:VEVENT
END:VCALENDAR
