BEGIN:VCALENDAR
VERSION:2.0
PRODID:-//Squarespace Inc/Squarespace 6//v6//EN
BEGIN:VEVENT
UID:5da56f30f67f2217cb357a0b@squarespace.com
DTSTAMP:20191015T070448Z
DTSTART:20191016T023000Z
DTEND:20191016T043000Z
SUMMARY:Faces and Places
END:VEVENT
END:VCALENDAR
