BEGIN:VCALENDAR
VERSION:2.0
PRODID:-//Squarespace Inc/Squarespace 6//v6//EN
BEGIN:VEVENT
UID:5e324f5358164e71d26cc2fd@squarespace.com
DTSTAMP:20200130T033956Z
DTSTART:20200311T083000Z
DTEND:20200311T103000Z
SUMMARY:Casa de mi Padre
END:VEVENT
END:VCALENDAR
